BEGIN:VCALENDAR
VERSION:2.0
PRODID:-//Digimentorid - ECPv6.15.13.1//NONSGML v1.0//EN
CALSCALE:GREGORIAN
METHOD:PUBLISH
X-ORIGINAL-URL:https://meedia.ut.ee
X-WR-CALDESC:Events for Digimentorid
REFRESH-INTERVAL;VALUE=DURATION:PT1H
X-Robots-Tag:noindex
X-PUBLISHED-TTL:PT1H
BEGIN:VTIMEZONE
TZID:UTC
BEGIN:STANDARD
TZOFFSETFROM:+0000
TZOFFSETTO:+0000
TZNAME:UTC
DTSTART:20240101T000000
END:STANDARD
END:VTIMEZONE
BEGIN:VEVENT
DTSTART;TZID=UTC:20251211T183000
DTEND;TZID=UTC:20251211T193000
DTSTAMP:20260420T194412
CREATED:20251126T140840Z
LAST-MODIFIED:20251127T134807Z
UID:5879-1765477800-1765481400@meedia.ut.ee
SUMMARY:Kuidas rääkida lapsega veebimängudest?
DESCRIPTION:Kas tunned vahel\, et lapse veebimängude maailmaga seonduv on justkui võõras keel\, mida on raske mõista? Kas soovid õppida mänge paremini tundma või seada piire ja kokkuleppeid\, kuid ei tea\, kust alustada\, et vältida tülisid?\nOotame 11. detsembril kell 18.30–19.30 veebikohtumisele lapsevanemaid\, õpetajaid ja noortega töötavaid spetsialiste\, et rääkida avatult ja hinnanguvabalt laste online-mängudest.\n\nTeemad\, millest räägime:\n\n Müüdid vs. tegelikkus. Vaatame otsa videomängudega seotud levinumatele hirmudele ja räägime päris ohtudest – internetivõõrad\, hasartmängurluse elemendid\, raha kulutamine ja mänguhäired.\n Kontakt ja kokkulepped. Jagame universaalseid jutupunkte ja küsimusi\, mis aitavad sul veebimänge mängiva lapsega paremat kontakti saavutada. Kuidas seada piire nii\, et need peaksid?\n Tööriistakast vanemale. Õpetame kasutama PEGI reitingusüsteemi (vaatame konkreetseid näiteid). Näitame\, kuidas tehisintellekt saab olla sinu abiline mängude sisu mõistmisel. Selleks jagame konkreetseid viipasid. Tutvustame Tartu Ülikooli meediapädevuse lehekülge\, kust leiad edaspidi tuge.\n\nKoolitaja: Meliva nutinõustaja Karl Erik Saks. Ta on pühendanud oma magistritöö (TÜ) videomängude uuringutele ja töötanud ligi viis aastat nutinõustajana\, tehes koostööd nii koolide kui ka peredega.\n\nRegistreerimislink: https://forms.gle/YfxURvHeYdyyXUXt5\n\nVeebiseminar toimub Tartu Ülikooli ühiskonnateaduste instituudi ja Telia ühise projekti “Digimentorid” raames. Uuri lähemalt: meedia.ut.ee
URL:https://meedia.ut.ee/event/kuidas-raakida-lapsega-veebimangudest/
ATTACH;FMTTYPE=image/png:https://meedia.ut.ee/wp-content/uploads/2025/11/Digimentorite-e-tunnid-gumnaasiumile-18.png
END:VEVENT
END:VCALENDAR