BEGIN:VCALENDAR
VERSION:2.0
PRODID:-//Digimentorid - ECPv6.15.13.1//NONSGML v1.0//EN
CALSCALE:GREGORIAN
METHOD:PUBLISH
X-WR-CALNAME:Digimentorid
X-ORIGINAL-URL:https://meedia.ut.ee
X-WR-CALDESC:Events for Digimentorid
REFRESH-INTERVAL;VALUE=DURATION:PT1H
X-Robots-Tag:noindex
X-PUBLISHED-TTL:PT1H
BEGIN:VTIMEZONE
TZID:UTC
BEGIN:STANDARD
TZOFFSETFROM:+0000
TZOFFSETTO:+0000
TZNAME:UTC
DTSTART:20240101T000000
END:STANDARD
END:VTIMEZONE
BEGIN:VEVENT
DTSTART;TZID=UTC:20250825T160000
DTEND;TZID=UTC:20250825T170000
DTSTAMP:20260421T032945
CREATED:20250815T121621Z
LAST-MODIFIED:20250815T121709Z
UID:5300-1756137600-1756141200@meedia.ut.ee
SUMMARY:Veebiseminar õpetajatele "Kuidas viia läbi põnevaid meediaõpetuse tunde?"
DESCRIPTION:Soovime\, et meediaõpetuse tundide planeerimine oleks algaval õppeaastal stressivaba ning õpetajatel põnevad ülesanded varnast võtta. Just seetõttu korraldame 25. augustil kell 16–17 tasuta veebiseminari “Kuidas viia läbi põnevaid meediaõpetuse tunde?” \, kus jagame 7.–12. klassi õpetajatele värskeid meediaõpetuse materjale\, mida saab ilma pikema ettevalmistuseta kasutusele võtta. \nKohtumisel: \n\nAnname ülevaate erineva raskusastmega meediaõpetuse ülesannetest\, mida saab integreerida pea kõikidesse õppeainetesse.\nRäägime digimentorlusest\, kus õpilased astuvad mentori rolli\, arendades samal ajal nii enda kui teiste meedia- ja digipädevusi.\nJagame ideid\, kuidas muuta meediaharidus kaasahaaravaks ja eluliseks.\n\nSeminari aeg ja koht: 25. august kell 16–17\, Zoom. \nSihtgrupp: 7.–12. klassi õpetajad \nKoolitajad: Tartu Ülikooli ühiskonnateaduste instituudi meediauuringute kaasprofessor Maria Murumaa-Mengel ja meediapädevuse projektijuht Inger Klesment. \nRegistreerimislink: https://forms.gle/cus35NXwwZe99ZTt7 \nVeebiseminar toimub Tartu Ülikooli ühiskonnateaduste instituudi ja Telia ühise projekti “Digimentorid” raames. Uuri lähemalt: meedia.ut.ee
URL:https://meedia.ut.ee/event/veebiseminar-opetajatele-kuidas-viia-labi-ponevaid-meediaopetuse-tunde/
ATTACH;FMTTYPE=image/png:https://meedia.ut.ee/wp-content/uploads/2025/08/Digimentorite-e-tunnid-gumnaasiumile-10.png
END:VEVENT
END:VCALENDAR