BEGIN:VCALENDAR
VERSION:2.0
PRODID:-//Digimentorid - ECPv6.15.13.1//NONSGML v1.0//EN
CALSCALE:GREGORIAN
METHOD:PUBLISH
X-WR-CALNAME:Digimentorid
X-ORIGINAL-URL:https://meedia.ut.ee
X-WR-CALDESC:Events for Digimentorid
REFRESH-INTERVAL;VALUE=DURATION:PT1H
X-Robots-Tag:noindex
X-PUBLISHED-TTL:PT1H
BEGIN:VTIMEZONE
TZID:UTC
BEGIN:STANDARD
TZOFFSETFROM:+0000
TZOFFSETTO:+0000
TZNAME:UTC
DTSTART:20240101T000000
END:STANDARD
END:VTIMEZONE
BEGIN:VEVENT
DTSTART;TZID=UTC:20250507T120000
DTEND;TZID=UTC:20250507T130000
DTSTAMP:20260421T093910
CREATED:20250422T125442Z
LAST-MODIFIED:20250422T125628Z
UID:4544-1746619200-1746622800@meedia.ut.ee
SUMMARY:Digimentorite e-tund (7. mai 2025 kell 12-13)
DESCRIPTION:Kutsume gümnasiste osalema 45-minutilises e-tunnis\, mis tõstab õpilaste digi- ja meediapädevusi ning annab praktilisi nippe ühiskonnas kasvava digilõhe vähendamiseks. Tunnis õpitut saab rakendada uurimistöödes ja väiksemates praktilistes projektides. Veebikohtumisel analüüsitakse eakate internetikasutuse harjumusi\, tuvastatakse peamisi digiseadmete kasutamise probleeme ning pakutakse praktilisi lahendusi\, kuidas noored saavad digilõhe vähendada.\n\nE-tundi saavad registreerida nii õpetajad kogu klassi kui õpilased individuaalselt aadressil https://forms.gle/Z89JvY5MNYSF55QJ6 \n\nE-tunnis osalejatele väljastatakse Tartu Ülikooli täienduskoolituse tõend. 
URL:https://meedia.ut.ee/event/digimentorite-e-tund-7-mai-2025-kell-12-13/
ATTACH;FMTTYPE=image/png:https://meedia.ut.ee/wp-content/uploads/2025/04/Digimentorite-e-tunnid-gumnaasiumile-4.png
END:VEVENT
BEGIN:VEVENT
DTSTART;TZID=UTC:20250515T100000
DTEND;TZID=UTC:20250515T110000
DTSTAMP:20260421T093910
CREATED:20250422T125759Z
LAST-MODIFIED:20250422T125759Z
UID:4547-1747303200-1747306800@meedia.ut.ee
SUMMARY:Digimentorite e-tund (15. mai 2025 kell 10-11)
DESCRIPTION:Kutsume gümnasiste osalema 45-minutilises e-tunnis\, mis tõstab õpilaste digi- ja meediapädevusi ning annab praktilisi nippe ühiskonnas kasvava digilõhe vähendamiseks. Tunnis õpitut saab rakendada uurimistöödes ja väiksemates praktilistes projektides. Veebikohtumisel analüüsitakse eakate internetikasutuse harjumusi\, tuvastatakse peamisi digiseadmete kasutamise probleeme ning pakutakse praktilisi lahendusi\, kuidas noored saavad digilõhe vähendada.\n\nE-tundi saavad registreerida nii õpetajad kogu klassi kui õpilased individuaalselt aadressil https://forms.gle/Z89JvY5MNYSF55QJ6 \n\nE-tunnis osalejatele väljastatakse Tartu Ülikooli täienduskoolituse tõend. 
URL:https://meedia.ut.ee/event/digimentorite-e-tund-15-mai-2025-kell-10-11/
ATTACH;FMTTYPE=image/png:https://meedia.ut.ee/wp-content/uploads/2025/04/Digimentorite-e-tunnid-gumnaasiumile-4.png
END:VEVENT
BEGIN:VEVENT
DTSTART;TZID=UTC:20250521T150000
DTEND;TZID=UTC:20250521T160000
DTSTAMP:20260421T093910
CREATED:20250422T125850Z
LAST-MODIFIED:20250422T125850Z
UID:4549-1747839600-1747843200@meedia.ut.ee
SUMMARY:Digimentorite e-tund (21. mai 2025 kell 15-16)
DESCRIPTION:Kutsume gümnasiste osalema 45-minutilises e-tunnis\, mis tõstab õpilaste digi- ja meediapädevusi ning annab praktilisi nippe ühiskonnas kasvava digilõhe vähendamiseks. Tunnis õpitut saab rakendada uurimistöödes ja väiksemates praktilistes projektides. Veebikohtumisel analüüsitakse eakate internetikasutuse harjumusi\, tuvastatakse peamisi digiseadmete kasutamise probleeme ning pakutakse praktilisi lahendusi\, kuidas noored saavad digilõhe vähendada.\n\nE-tundi saavad registreerida nii õpetajad kogu klassi kui õpilased individuaalselt aadressil https://forms.gle/Z89JvY5MNYSF55QJ6 \n\nE-tunnis osalejatele väljastatakse Tartu Ülikooli täienduskoolituse tõend. 
URL:https://meedia.ut.ee/event/digimentorite-e-tund-21-mai-2025-kell-15-16/
ATTACH;FMTTYPE=image/png:https://meedia.ut.ee/wp-content/uploads/2025/04/Digimentorite-e-tunnid-gumnaasiumile-4.png
END:VEVENT
END:VCALENDAR