BEGIN:VCALENDAR
VERSION:2.0
PRODID:-//Digimentorid - ECPv6.15.13.1//NONSGML v1.0//EN
CALSCALE:GREGORIAN
METHOD:PUBLISH
X-WR-CALNAME:Digimentorid
X-ORIGINAL-URL:https://meedia.ut.ee
X-WR-CALDESC:Events for Digimentorid
REFRESH-INTERVAL;VALUE=DURATION:PT1H
X-Robots-Tag:noindex
X-PUBLISHED-TTL:PT1H
BEGIN:VTIMEZONE
TZID:UTC
BEGIN:STANDARD
TZOFFSETFROM:+0000
TZOFFSETTO:+0000
TZNAME:UTC
DTSTART:20240101T000000
END:STANDARD
END:VTIMEZONE
BEGIN:VEVENT
DTSTART;TZID=UTC:20250409T110000
DTEND;TZID=UTC:20250409T120000
DTSTAMP:20260421T130442
CREATED:20250402T085001Z
LAST-MODIFIED:20250402T085001Z
UID:4469-1744196400-1744200000@meedia.ut.ee
SUMMARY:Digimentorite e-tund (9. aprill 2025 kell 11-12)
DESCRIPTION:Kutsume gümnasiste osalema 45-minutilises e-tunnis\, mis tõstab õpilaste digi- ja meediapädevusi ning annab praktilisi nippe ühiskonnas kasvava digilõhe vähendamiseks. Tunnis õpitut saab rakendada uurimistöödes ja väiksemates praktilistes projektides. Veebikohtumisel analüüsitakse eakate internetikasutuse harjumusi\, tuvastatakse peamisi digiseadmete kasutamise probleeme ning pakutakse praktilisi lahendusi\, kuidas noored saavad digilõhe vähendada.\n\nE-tundi saavad registreerida nii õpetajad kogu klassi kui õpilased individuaalselt aadressil https://forms.gle/Z89JvY5MNYSF55QJ6 \n\nE-tunnis osalejatele väljastatakse Tartu Ülikooli täienduskoolituse tõend. 
URL:https://meedia.ut.ee/event/digimentorite-e-tund-9-aprill-2025-kell-11-12/
ATTACH;FMTTYPE=image/png:https://meedia.ut.ee/wp-content/uploads/2025/03/13.03.2025-6.png
END:VEVENT
BEGIN:VEVENT
DTSTART;TZID=UTC:20250417T110000
DTEND;TZID=UTC:20250417T120000
DTSTAMP:20260421T130442
CREATED:20250402T085243Z
LAST-MODIFIED:20250402T085243Z
UID:4471-1744887600-1744891200@meedia.ut.ee
SUMMARY:Digimentorite e-tund (17. aprill 2025 kell 11-12)
DESCRIPTION:Kutsume gümnasiste osalema 45-minutilises e-tunnis\, mis tõstab õpilaste digi- ja meediapädevusi ning annab praktilisi nippe ühiskonnas kasvava digilõhe vähendamiseks. Tunnis õpitut saab rakendada uurimistöödes ja väiksemates praktilistes projektides. Veebikohtumisel analüüsitakse eakate internetikasutuse harjumusi\, tuvastatakse peamisi digiseadmete kasutamise probleeme ning pakutakse praktilisi lahendusi\, kuidas noored saavad digilõhe vähendada.\n\nE-tundi saavad registreerida nii õpetajad kogu klassi kui õpilased individuaalselt aadressil https://forms.gle/Z89JvY5MNYSF55QJ6 \n\nE-tunnis osalejatele väljastatakse Tartu Ülikooli täienduskoolituse tõend. 
URL:https://meedia.ut.ee/event/digimentorite-e-tund-17-aprill-2025-kell-11-12/
ATTACH;FMTTYPE=image/png:https://meedia.ut.ee/wp-content/uploads/2025/03/13.03.2025-6.png
END:VEVENT
BEGIN:VEVENT
DTSTART;TZID=UTC:20250418T140000
DTEND;TZID=UTC:20250418T150000
DTSTAMP:20260421T130442
CREATED:20250402T085358Z
LAST-MODIFIED:20250402T085358Z
UID:4473-1744984800-1744988400@meedia.ut.ee
SUMMARY:Digimentorite e-tund (18. aprill 2025 kell 14-15)
DESCRIPTION:Kutsume gümnasiste osalema 45-minutilises e-tunnis\, mis tõstab õpilaste digi- ja meediapädevusi ning annab praktilisi nippe ühiskonnas kasvava digilõhe vähendamiseks. Tunnis õpitut saab rakendada uurimistöödes ja väiksemates praktilistes projektides. Veebikohtumisel analüüsitakse eakate internetikasutuse harjumusi\, tuvastatakse peamisi digiseadmete kasutamise probleeme ning pakutakse praktilisi lahendusi\, kuidas noored saavad digilõhe vähendada.\n\nE-tundi saavad registreerida nii õpetajad kogu klassi kui õpilased individuaalselt aadressil https://forms.gle/Z89JvY5MNYSF55QJ6 \n\nE-tunnis osalejatele väljastatakse Tartu Ülikooli täienduskoolituse tõend. 
URL:https://meedia.ut.ee/event/digimentorite-e-tund-18-aprill-2025-kell-14-15/
ATTACH;FMTTYPE=image/png:https://meedia.ut.ee/wp-content/uploads/2025/03/13.03.2025-6.png
END:VEVENT
BEGIN:VEVENT
DTSTART;TZID=UTC:20250422T130000
DTEND;TZID=UTC:20250422T140000
DTSTAMP:20260421T130442
CREATED:20250402T085509Z
LAST-MODIFIED:20250402T085509Z
UID:4475-1745326800-1745330400@meedia.ut.ee
SUMMARY:Digimentorite e-tund (22. aprill 2025 kell 13-14)
DESCRIPTION:Kutsume gümnasiste osalema 45-minutilises e-tunnis\, mis tõstab õpilaste digi- ja meediapädevusi ning annab praktilisi nippe ühiskonnas kasvava digilõhe vähendamiseks. Tunnis õpitut saab rakendada uurimistöödes ja väiksemates praktilistes projektides. Veebikohtumisel analüüsitakse eakate internetikasutuse harjumusi\, tuvastatakse peamisi digiseadmete kasutamise probleeme ning pakutakse praktilisi lahendusi\, kuidas noored saavad digilõhe vähendada.\n\nE-tundi saavad registreerida nii õpetajad kogu klassi kui õpilased individuaalselt aadressil https://forms.gle/Z89JvY5MNYSF55QJ6 \n\nE-tunnis osalejatele väljastatakse Tartu Ülikooli täienduskoolituse tõend. 
URL:https://meedia.ut.ee/event/digimentorite-e-tund-22-aprill-2025-kell-13-14/
ATTACH;FMTTYPE=image/png:https://meedia.ut.ee/wp-content/uploads/2025/03/13.03.2025-6.png
END:VEVENT
BEGIN:VEVENT
DTSTART;TZID=UTC:20250429T153000
DTEND;TZID=UTC:20250429T163000
DTSTAMP:20260421T130442
CREATED:20250405T095939Z
LAST-MODIFIED:20250405T100035Z
UID:4480-1745940600-1745944200@meedia.ut.ee
SUMMARY:Veebiseminar õpetajatele ja lapsevanematele: "Mida teha\, kui lapse eeskujuks saab manfluencer?"
DESCRIPTION:Veebiseminaril selgitab Tartu Ülikooli digimeedia uuringute nooremteadur Kaarel Lott Netflixi sensatsiooni “Adolescence” näitel\, mida saavad lapsevanemad ja haridustöötajad traagilise lõpuga loost õppida.\n\nSeminaril saate vastused järgmistele küsimustele:\n\n1. Kes on manfluencerid\, millist eeskuju nad annavad ning kuidas internetis poisse ja noormehi kõnetavad? Kus nad tegutsevad? Miks nad poistele ja neid ümbritsevatele inimestele kahjulikud võivad olla?2. Mis asi on manosfäär? Milliseid kogukondi selles leidub? Miks need problemaatilised on?3. Kuidas ära tunda ohumärke lapse käitumises ja internetikasutuses? Millistele sõnadele\, emojidele\, sisuloojatele ja teistele ilmingutele peaks tähelepanu pöörama?4. Mida teha\, kui laps usub ja levitab manosfäärile omaseid sõnumeid?\n\n Kuupäev ja kellaaeg: 29. aprillil kell 15.30–16.30 Zoomis\n\n Koolitaja: Kaarel Lott\, Tartu Ülikooli ühiskonnateaduste instituudi digimeedia uuringute nooremteadur\n\n Registreerimislink: https://forms.gle/ve7mPimKXZT52PUZ6\n\nVeebiseminaril osalemine on tasuta.
URL:https://meedia.ut.ee/event/veebiseminar-opetajatele-ja-lapsevanematele-mida-teha-kui-lapse-eeskujuks-saab-manfluencer/
ATTACH;FMTTYPE=image/png:https://meedia.ut.ee/wp-content/uploads/2025/04/Digimentorite-e-tunnid-gumnaasiumile-3.png
END:VEVENT
BEGIN:VEVENT
DTSTART;TZID=UTC:20250430T130000
DTEND;TZID=UTC:20250430T140000
DTSTAMP:20260421T130442
CREATED:20250402T085611Z
LAST-MODIFIED:20250402T085611Z
UID:4477-1746018000-1746021600@meedia.ut.ee
SUMMARY:Digimentorite e-tund (30. aprill 2025 kell 13-14)
DESCRIPTION:Kutsume gümnasiste osalema 45-minutilises e-tunnis\, mis tõstab õpilaste digi- ja meediapädevusi ning annab praktilisi nippe ühiskonnas kasvava digilõhe vähendamiseks. Tunnis õpitut saab rakendada uurimistöödes ja väiksemates praktilistes projektides. Veebikohtumisel analüüsitakse eakate internetikasutuse harjumusi\, tuvastatakse peamisi digiseadmete kasutamise probleeme ning pakutakse praktilisi lahendusi\, kuidas noored saavad digilõhe vähendada.\n\nE-tundi saavad registreerida nii õpetajad kogu klassi kui õpilased individuaalselt aadressil https://forms.gle/Z89JvY5MNYSF55QJ6 \n\nE-tunnis osalejatele väljastatakse Tartu Ülikooli täienduskoolituse tõend. 
URL:https://meedia.ut.ee/event/digimentorite-e-tund-30-aprill-2025-kell-13-14/
ATTACH;FMTTYPE=image/png:https://meedia.ut.ee/wp-content/uploads/2025/03/13.03.2025-6.png
END:VEVENT
END:VCALENDAR