BEGIN:VCALENDAR
VERSION:2.0
PRODID:-//Digimentorid - ECPv6.15.13.1//NONSGML v1.0//EN
CALSCALE:GREGORIAN
METHOD:PUBLISH
X-WR-CALNAME:Digimentorid
X-ORIGINAL-URL:https://meedia.ut.ee
X-WR-CALDESC:Events for Digimentorid
REFRESH-INTERVAL;VALUE=DURATION:PT1H
X-Robots-Tag:noindex
X-PUBLISHED-TTL:PT1H
BEGIN:VTIMEZONE
TZID:UTC
BEGIN:STANDARD
TZOFFSETFROM:+0000
TZOFFSETTO:+0000
TZNAME:UTC
DTSTART:20250101T000000
END:STANDARD
END:VTIMEZONE
BEGIN:VEVENT
DTSTART;TZID=UTC:20260331T180000
DTEND;TZID=UTC:20260331T190000
DTSTAMP:20260420T140747
CREATED:20260326T091922Z
LAST-MODIFIED:20260326T092000Z
UID:6252-1774980000-1774983600@meedia.ut.ee
SUMMARY:Veebiseminar "Kuidas süvavõltsinguid ära tunda?"
DESCRIPTION:Tehisintellekt võimaldab luua ja levitada süvavõltsinguid kiiremini ning soodsamalt kui kunagi varem. See on endaga kaasa toonud pettuste laine\, tõstnud küberkiusamise juhtumeid ja tekitab palju segadust igapäevases veebikasutuses. Üha selgemaks saab\, et oma silm pole enam kuningas.\n\nDelfi uuriva ja faktikontrolli toimetuse reporter Ireene Kilusk selgitab 31. märtsil kell 18–19\, millist liiki süvavõltsinguid on olemas\, kes ja miks neid loovad ning annab praktilisi nõuandeid\, kuidas neid ära tunda. Näidete hulgas on nii kiireid ja lihtsaid nippe lapsevanematele kui keerukamate tööriistade kasutamise õpetus haridustöötajatele koos soovitustega\, mismoodi neid koolitundi integreerida.\nLisaks lapsevanematele ja õpetajatele on veebiseminarile oodatud ka kõik teised\, kes soovivad inforuumis paremini orienteeruda.\n\nOsalemine on tasuta!\n\nRegistreerimislink: https://forms.gle/K8RYqtFTtbRttyVF7\n\nVeebiseminar toimub Telia ja TÜ ühiskonnateaduste instituudi projekti Digimentorid raames. Vaata lähemalt: meedia.ut.ee
URL:https://meedia.ut.ee/event/veebiseminar-kuidas-suvavoltsinguid-ara-tunda/
ATTACH;FMTTYPE=image/png:https://meedia.ut.ee/wp-content/uploads/2026/03/Digimentorite-e-tunnid-gumnaasiumile-21.png
END:VEVENT
END:VCALENDAR