BEGIN:VCALENDAR
VERSION:2.0
PRODID:-//Digimentorid - ECPv6.15.13.1//NONSGML v1.0//EN
CALSCALE:GREGORIAN
METHOD:PUBLISH
X-ORIGINAL-URL:https://meedia.ut.ee
X-WR-CALDESC:Events for Digimentorid
REFRESH-INTERVAL;VALUE=DURATION:PT1H
X-Robots-Tag:noindex
X-PUBLISHED-TTL:PT1H
BEGIN:VTIMEZONE
TZID:UTC
BEGIN:STANDARD
TZOFFSETFROM:+0000
TZOFFSETTO:+0000
TZNAME:UTC
DTSTART:20240101T000000
END:STANDARD
END:VTIMEZONE
BEGIN:VEVENT
DTSTART;TZID=UTC:20251127T130000
DTEND;TZID=UTC:20251127T133000
DTSTAMP:20260420T233807
CREATED:20251112T105911Z
LAST-MODIFIED:20251112T110040Z
UID:5830-1764248400-1764250200@meedia.ut.ee
SUMMARY:E-tund "Kuidas praktiliselt meediateadmisi edasi anda?"
DESCRIPTION:Tahame või mitte\, noored veedavad sotsiaalmeedias väga palju aega. Seetõttu on oluline\, et neil oleksid värsked teadmised sotsiaalmeedia kriitilisest tarbimisest. \nTuginedes ulatuslikule kogemusele sadade kooliõpilaste juhendamisel\, tutvustavad Tartu Ülikooli ajakirjanduse ja kommunikatsiooni eriala tudengid Johannes Peetsalu ja Albert Leppik e-tunnis praktilisi harjutusi\, aruteluküsimusi ja ülesandeid\, mis aitavad õppida meediat teadlikumalt ja kriitilisemalt tarbima. Lisaks pakuvad nad ideid ja ressursse\, mille abil ise Digimentori rolli astuda. \nE-tunni peamine eesmärk on innustada ja varustada noori teadmistega\, et nad julgeksid ja oskaksid hakata oma kooli Digimentoriteks. \nE-tunni loomist toetab Telia Eesti. \nRegistreerumine: https://etunnid.tagasikooli.ee/e-tund/kuidas-praktiliselt-meediateadmisi-edasi-anda/
URL:https://meedia.ut.ee/event/e-tund-kuidas-praktiliselt-meediateadmisi-edasi-anda/
ATTACH;FMTTYPE=image/png:https://meedia.ut.ee/wp-content/uploads/2025/11/Digimentorite-e-tunnid-gumnaasiumile-16.png
END:VEVENT
END:VCALENDAR