BEGIN:VCALENDAR
VERSION:2.0
PRODID:-//Digimentorid - ECPv6.15.13.1//NONSGML v1.0//EN
CALSCALE:GREGORIAN
METHOD:PUBLISH
X-ORIGINAL-URL:https://meedia.ut.ee
X-WR-CALDESC:Events for Digimentorid
REFRESH-INTERVAL;VALUE=DURATION:PT1H
X-Robots-Tag:noindex
X-PUBLISHED-TTL:PT1H
BEGIN:VTIMEZONE
TZID:UTC
BEGIN:STANDARD
TZOFFSETFROM:+0000
TZOFFSETTO:+0000
TZNAME:UTC
DTSTART:20240101T000000
END:STANDARD
END:VTIMEZONE
BEGIN:VEVENT
DTSTART;TZID=UTC:20251107T120000
DTEND;TZID=UTC:20251107T170000
DTSTAMP:20260420T233817
CREATED:20251112T105503Z
LAST-MODIFIED:20251112T110135Z
UID:5825-1762516800-1762534800@meedia.ut.ee
SUMMARY:Digimentorite häkaton 7.11.2025
DESCRIPTION:Hea õpetaja\n\nOlete oodatud kuni viie õpilasega osalema digiturvalisuse häkatonil\, mis toimub 7. novembril kell 12–17 Telia peakontoris Tallinnas. Sündmusel saavad 50 aktiivset 7.–12. klassi noort arutleda digiturvalisuse teemadel ja töötada välja praktilisi lahendusi eakaaslaste harimiseks. Iga võitjatiimi liige saab auhinnaks 100€ Apollo kinkekaardi!\n\nPäeva juhatab sisse noorte seas ülipopulaarne sisulooja Arija Helmvee (@roosabanaanike) teemaga „Kuidas luua sotsiaalmeedias tähendusrikast ja hästi levivat sisu?“\n\nMiks tulla?\n\n1) Õpilased saavad häkatoni formaadis lõbusate ja õpetlike tegevuste väljatöötamise kogemuse\, mis arendab nii probleemide lahendamise kui ka meeskonnatöö oskusi.2) Häkatonil sündinud ideed jõuavad 2026. aasta veebruaris veebilehe targaltinternetis.ee Turvalise Interneti Päeva kampaaniasse\, mida levitatakse ka Telia ja Tartu Ülikooli kanalites\, andes Teie õpilaste panusele laia kõlapinna.3) Häkatoni teemadeks on tehisintellekti eksitavad vastused\, populaarsete sotsiaalmeediaplatvormide privaatsustingimuste keerukus ja tundmatute inimestega suhtlemine veebis. Õpetlike tegevuste loomiseks moodustatakse 5-liikmelised tiimid\, keda toetavad Lastekaitse Liidu lapse õiguste saadikud. Osalejatele pakutakse tasuta lõunasööki ja snäkke.4) Õpilaste häkatoni ajal toimub paralleelselt 2-tunnine tehisintellekti koolitus õpetajatele\, mida viib läbi Tartu Ülikooli meediapädevuse spetsialist Inger Klesment. Koolitus annab praktilisi oskusi ja ideid TI kasutamiseks õppetöös.\n\nTulekul on põnev ja inspireeriv päev täis praktilist tegevust!\n\nHäkatoni korraldavad Lastekaitse Liit\, Telia\, Tartu Ülikooli ühiskonnateaduste instituut ning toetab Riigikantselei. Osalemine on tasuta!
URL:https://meedia.ut.ee/event/digimentorite-hakaton-7-11-2025/
ATTACH;FMTTYPE=image/png:https://meedia.ut.ee/wp-content/uploads/2025/11/Digimentorite-e-tunnid-gumnaasiumile-15.png
END:VEVENT
END:VCALENDAR