BEGIN:VCALENDAR
VERSION:2.0
PRODID:-//Digimentorid - ECPv6.15.13.1//NONSGML v1.0//EN
CALSCALE:GREGORIAN
METHOD:PUBLISH
X-ORIGINAL-URL:https://meedia.ut.ee
X-WR-CALDESC:Events for Digimentorid
REFRESH-INTERVAL;VALUE=DURATION:PT1H
X-Robots-Tag:noindex
X-PUBLISHED-TTL:PT1H
BEGIN:VTIMEZONE
TZID:UTC
BEGIN:STANDARD
TZOFFSETFROM:+0000
TZOFFSETTO:+0000
TZNAME:UTC
DTSTART:20240101T000000
END:STANDARD
END:VTIMEZONE
BEGIN:VEVENT
DTSTART;TZID=UTC:20250320T150000
DTEND;TZID=UTC:20250320T160000
DTSTAMP:20260421T151311
CREATED:20250307T085618Z
LAST-MODIFIED:20250409T113022Z
UID:4422-1742482800-1742486400@meedia.ut.ee
SUMMARY:Vandenõuteooriate äratundmine kriisides
DESCRIPTION:Seminari salvestus: https://youtu.be/rQQut127OBQ?si=obYrmRc90DE69dN6\n\nVeebiseminaril õpetatakse märkama vandenõuteooriate erinevaid vorme\, mis pakuvad kriiside ajal keerulistele probleemidele “lihtsaid lahendusi”\, kuid seeläbi külvavad hoopis segadust ja isegi paanikat.\n\n Miks osaleda?\n\n1. Saate teadmisi vandenõuteooriate erinevatest vormidest ning mõistate\, kuidas algoritmid nende levikut mõjutavad.2. Kriiside ajal levivad vandenõuteooriad võivad ühiskonna haavatavaid gruppe\, sealhulgas noori ja eakaid eriti tugevalt mõjutada – seminar annab Teile tööriistad\, et toetada oma kogukonnas tuge vajavate liikmete kriitilist mõtlemist ja infoanalüüsi oskusi.3. Tutvute praktiliste meetoditega\, mis aitavad kiiresti tuvastada valeinfot\, vähendades seeläbi paanikat ja segadust.\n\n Kuupäev ja kellaaeg: 20. märts kell 15–16 Zoomis\n\n Koolitajad:\n\n– Oksana Belova-Dalton\, Tartu Ülikool\, Johan Skytte poliitikauuringute instituudi teadur– Gretel Juhansoo\, Tartu Ülikooli ühiskonnateaduste instituudi meediapädevuse spetsialist\n\n Registreerimislink: https://forms.gle/bbdCvgXNSyPywSTw8\n\nVeebiseminaril osalemine on tasuta.\n\nSeminar toimub Tartu Ülikooli ühiskonnateaduste instituudi ja Telia ühise algatuse Digimentorid raames. Rohkem kui 50 ideed\, kuidas digimeediapädevuste õpet tundidesse lõimida\, leiate algatuse veebilehelt meedia.ut.ee
URL:https://meedia.ut.ee/event/vandenouteooriate-aratundmine-kriisides/
ATTACH;FMTTYPE=image/png:https://meedia.ut.ee/wp-content/uploads/2025/03/Digimentorite-e-tunnid-gumnaasiumile.png
END:VEVENT
END:VCALENDAR