BEGIN:VCALENDAR
VERSION:2.0
PRODID:-//Digimentorid - ECPv6.15.13.1//NONSGML v1.0//EN
CALSCALE:GREGORIAN
METHOD:PUBLISH
X-WR-CALNAME:Digimentorid
X-ORIGINAL-URL:https://meedia.ut.ee
X-WR-CALDESC:Events for Digimentorid
REFRESH-INTERVAL;VALUE=DURATION:PT1H
X-Robots-Tag:noindex
X-PUBLISHED-TTL:PT1H
BEGIN:VTIMEZONE
TZID:UTC
BEGIN:STANDARD
TZOFFSETFROM:+0000
TZOFFSETTO:+0000
TZNAME:UTC
DTSTART:20240101T000000
END:STANDARD
END:VTIMEZONE
BEGIN:VEVENT
DTSTART;TZID=UTC:20250127T150000
DTEND;TZID=UTC:20250127T160000
DTSTAMP:20260421T164323
CREATED:20250120T134504Z
LAST-MODIFIED:20250120T134558Z
UID:3595-1737990000-1737993600@meedia.ut.ee
SUMMARY:Kuidas noorte meediakasutus ja ajakirjandus teineteist vormivad?
DESCRIPTION:Kutsume haridustöötajaid osalema tasuta veebiseminaril “Kuidas noorte meediakasutus ja ajakirjandus teineteist vormivad?”\, mis toimub 27. jaanuaril kell 15.00-16.00.\n\nArutelu toob kokku meedia ja kommunikatsiooni koolitaja Maria Rozbaumi ning Õhtulehe peatoimetaja Martin Šmutovi\, kes arutlevad\, mida saavad koolimeedia vedajad ajakirjanduselt õppida ja vastupidi – kuidas noorte digimeediakasutus mõjutab traditsioonilist meediat.\n\nKuupäev ja kellaaeg: 27. jaanuar 2024 kell 15.00–16.00 (Zoomis) \nSihtgrupp: haridustöötajad \nKoolitajad: \n\nMartin Šmutov\, Õhtulehe peatoimetaja\nMaria Rozbaum\, meedia ja kommunikatsiooni koolitaja; Pärnu Koidula Gümnaasiumi meedia ja kommunikatsiooni õpetaja\n\nModeraator: Inger Klesment\, Tartu Ülikooli ühiskonnateaduste instituudi meediapädevuse spetsialist \n\n\nRegistreerimislink: https://forms.gle/MQ3LGQAvkanpSpzHA\n\nSeminar toimub Tartu Ülikooli ühiskonnateaduste instituudi ja Telia ühise algatuse Digimentorid raames. Rohkem kui 50 ideed\, kuidas digimeediapädevuste õpet tundidesse lõimida\, leiate algatuse veebilehelt meedia.ut.ee
URL:https://meedia.ut.ee/event/kuidas-noorte-meediakasutus-ja-ajakirjandus-teineteist-vormivad/
ATTACH;FMTTYPE=image/png:https://meedia.ut.ee/wp-content/uploads/2025/01/MEEDIA.UT_.EE-2025-01-20T154508.970.png
END:VEVENT
END:VCALENDAR