BEGIN:VCALENDAR
VERSION:2.0
PRODID:-//Digimentorid - ECPv6.15.13.1//NONSGML v1.0//EN
CALSCALE:GREGORIAN
METHOD:PUBLISH
X-WR-CALNAME:Digimentorid
X-ORIGINAL-URL:https://meedia.ut.ee
X-WR-CALDESC:Events for Digimentorid
REFRESH-INTERVAL;VALUE=DURATION:PT1H
X-Robots-Tag:noindex
X-PUBLISHED-TTL:PT1H
BEGIN:VTIMEZONE
TZID:UTC
BEGIN:STANDARD
TZOFFSETFROM:+0000
TZOFFSETTO:+0000
TZNAME:UTC
DTSTART:20230101T000000
END:STANDARD
END:VTIMEZONE
BEGIN:VEVENT
DTSTART;TZID=UTC:20241128T160000
DTEND;TZID=UTC:20241128T170000
DTSTAMP:20260421T204656
CREATED:20241111T103438Z
LAST-MODIFIED:20241111T103951Z
UID:2768-1732809600-1732813200@meedia.ut.ee
SUMMARY:Ideid tundideks: inimaru ja tehisaru võimalused
DESCRIPTION:Tehisaru loob uusi võimalusi\, kuidas erinäolistele õppijatele põnevaid ja personaliseeritud õpiülesandeid disainida. Samuti saavad suurte keelemudelite põhised tööriistad olla abiks õpetajatöö bürokraatilikuma osaga. Praktilise iseloomuga seminaris katsetamegi AI võimalusi\, millest õpetajatele võib rohkelt abi olla. \nKoolitaja: Tartu Ülikooli meediauuringute kaasprofessor Maria Murumaa-Mengel \nToimumise aeg ja koht: seminar toimub 28. novembril kell 16.00-17.00 Zoomis \nSihtgrupp: haridustöötajad \nRegistreerumine: https://forms.gle/7EJLRcmvkGVKSLxp9
URL:https://meedia.ut.ee/event/ideid-tundideks-inimaru-ja-tehisaru-voimalused/
ATTACH;FMTTYPE=image/png:https://meedia.ut.ee/wp-content/uploads/2024/11/MEEDIA.UT_.EE-2024-11-11T123920.740.png
END:VEVENT
END:VCALENDAR