BEGIN:VCALENDAR
VERSION:2.0
PRODID:-//Digimentorid - ECPv6.15.13.1//NONSGML v1.0//EN
CALSCALE:GREGORIAN
METHOD:PUBLISH
X-WR-CALNAME:Digimentorid
X-ORIGINAL-URL:https://meedia.ut.ee
X-WR-CALDESC:Events for Digimentorid
REFRESH-INTERVAL;VALUE=DURATION:PT1H
X-Robots-Tag:noindex
X-PUBLISHED-TTL:PT1H
BEGIN:VTIMEZONE
TZID:UTC
BEGIN:STANDARD
TZOFFSETFROM:+0000
TZOFFSETTO:+0000
TZNAME:UTC
DTSTART:20230101T000000
END:STANDARD
END:VTIMEZONE
BEGIN:VEVENT
DTSTART;TZID=UTC:20241111T080000
DTEND;TZID=UTC:20241115T170000
DTSTAMP:20260421T222355
CREATED:20241108T080155Z
LAST-MODIFIED:20241108T080419Z
UID:2671-1731312000-1731690000@meedia.ut.ee
SUMMARY:Kapiprojekt
DESCRIPTION:MIS SEE ON?\nKas oled valmis tõeliseks väljakutseks\, mis paneb proovile nii sinu kiired näpud kui terava mõistuse? See meediakirjaoskust arendav mäng viib sind otse infomaailma südamesse\, kus sinu ülesanne on lahendada põnevaid ülesandeid igapäevaelulistel teemadel. \nOtsi tõde\, kasuta oma guugeldamistrikke ja selgita välja\, kas sulle esitatud väide peab paika. Erista tehisintellekti loodud pilte fotograafi loomingust ja saa tõeliseks eksperdiks\, kes suudab eristada uudiseid\, arvamuslugusid ja sisuturundust. Küsimused kolmest erinevast teemast on läbisegi\, mis muudab mängu iga hetkega üllatavamaks ja põnevamaks! \nKUIDAS SEE TÖÖTAB?\nTõelised seiklused algavad 11. novembrist ja kestavad kuni 15. novembrini. Iga päeva õhtul ootab sind uus väljakutse! Kui oled vastanud kõik küsimused õigesti\, saad iga päev erineva unikaalse koodi\, mis avab mystery boxi kusagil Eestimaa nurgas asuvas pakiautomaadis! \nIga päev avaneb kolm uut uksekest – täna võivad need olla Pärnus\, homme aga hoopis Saaremaal! Kus täpselt? Selleks jälgi iga päev alates kella 18-st vihjeid @kapiprojekt sotsiaalmeedias (TikTok ja Instagram)\, mis juhatavad sind lähemale pakiautomaadile. Kell 19 avalikustame õige asukoha täielikult. Kui oled kiireim\, leiad ihaldatud auhinna esimesena! \nAUHIND!\nIga mystery box on kordumatu ja täis üllatusi! Selles on sööki\, jooki ja muud vajalikku\, mida iga mängus osaleja kindlasti hindab! Meil on kokku 20 üllatust! Esmaspäevast reedeni jagame välja 15 pakki – iga päev kolm uut üllatuskarpi. Ära muretse\, kui sul ei õnnestu kohe koodi saada ega pakiautomaati avada\, sest kõigi mängus osalejate vahel loosime peale mängu lõppu välja ülejäänud 5 mystery boxi! \nAktiivsematele osalejatele on välja pandud ka lisaauhinnad: \n\nEksklusiivne pääse Delfi* meediatöötuppa\, kus 20 aktiivsemat osalejat saavad põhjalikult tutvuda Delfi meediamaailmaga ning osaleda spetsiaalselt neile korraldatud kohtumisel.\n10 õnnelikku osalejat saavad tasuta osaleda Lätis toimuval häkatonil ehk ideede maratonil\, kus nad saavad oma meediapädevust ja oskusi veelgi täiustada. Eksklusiivreisi võitjad selgitame välja Delfi töötoas osalejate seast.\n\nSamuti jagame tänutäheks soodustusi mitmelt ettevõttelt – see on meie viis tunnustada sind selle eest\, et arendad oma meediapädevust ja panustad teadlikuma ühiskonna loomisse. \n* Delfi töötuba toimub 18. jaanuaril  2025 \n* Häkaton toimub 1. veebruaril 2025 Riias. Häkatonil osaleja peab olema täisealine. \nMÄNGIMA!\nMeediakirjaoskus
URL:https://meedia.ut.ee/event/kapiprojekt/
ATTACH;FMTTYPE=image/jpeg:https://meedia.ut.ee/wp-content/uploads/2024/10/MEEDIA.UT_.EE-35.jpg
END:VEVENT
END:VCALENDAR