BEGIN:VCALENDAR
VERSION:2.0
PRODID:-//Digimentorid - ECPv6.15.13.1//NONSGML v1.0//EN
CALSCALE:GREGORIAN
METHOD:PUBLISH
X-WR-CALNAME:Digimentorid
X-ORIGINAL-URL:https://meedia.ut.ee
X-WR-CALDESC:Events for Digimentorid
REFRESH-INTERVAL;VALUE=DURATION:PT1H
X-Robots-Tag:noindex
X-PUBLISHED-TTL:PT1H
BEGIN:VTIMEZONE
TZID:UTC
BEGIN:STANDARD
TZOFFSETFROM:+0000
TZOFFSETTO:+0000
TZNAME:UTC
DTSTART:20230101T000000
END:STANDARD
END:VTIMEZONE
BEGIN:VEVENT
DTSTART;TZID=UTC:20241024T063000
DTEND;TZID=UTC:20241024T143000
DTSTAMP:20260421T235938
CREATED:20240809T082407Z
LAST-MODIFIED:20240809T090410Z
UID:974-1729751400-1729780200@meedia.ut.ee
SUMMARY:Meediahariduse konverents 2024: kuidas orienteeruda info virvarris?
DESCRIPTION:Lisa sündmus aegsasti oma kalendrisse ja soeta pilet Fientast!\nPS! Arvega tasumisel palun valige pileti ostmisel “arve alusel ülekandega”. \n24. oktoobril Pärnus toimuv meediahariduse aastakonverents „Kuidas orienteeruda info virvarris?“ toob kohale oma ala parimad praktikud\, kes jagavad haridusspetsialistidele nõuandeid\, kuidas toime tulla suures infohulgas orienteerumisega. \nPäeva avab ajaloolase David Vseviovi ettekanne desinformatsiooni mõjust ajaloos. Järgneb arutelupaneel kultuuriasutuste rollist meediapädevuse arendamisel ja õppetöö toetamisel. Arutelupaneelis keskendutakse sellele\, kuidas mäluasutused saavad oma haridusprogrammide\, näituste ja muude tegevuste kaudu toetada meediapädevuse arendamist. \nPärastlõunal jätkame meediataipliku jalutuskäiguga Pärnu linnas ja toimuvad praktilised töötoad. Konverentsi lõpus kuulutatakse välja aasta parimad meediapädevuse edendajad\, tunnustades sellega erilise pühendumusega inimesi ja ka tegusid\, mis on silma paistnud meediapädevuse edendamisel oma koolis ja kogukonnas. Päeva juhib Pärnu Postimehe peatoimetaja Siiri Erala. Osalejatele väljastab Eesti Rahvusraamatukogu koolitustunnistuse. \nPäevakava \n9.30–10.00 Kogunemine\nAvatud suhtlus- ja infoala \n10.00–10.05 Päevajuhi tervitus\nSiiri Erala\, Pärnu Postimees\, peatoimetaja \n10.05–10.10 Avasõnad \nRomek Kosenkranius\, Pärnu linnapea \n10.10–10.40 Desinformatsioon on ajaloo eakaaslane\nDavid Vseviov\, ajaloolane \n10.40–11.40 Arutelu: kultuuri- ja haridusasutuste roll meediapädevuse arendamisel\nModeraator: Siiri Erala\nOsalevad: Martin Vällik (Aasta meediapädevuse õpetaja 2023\, Tallinna Inglise Kolledži füüsikaõpetaja)\, Nikolai Ostašov (Noorte Vabamu sisujuht) ja Stiina Koit (Narva Vanalinna Riigikooli raamatukoguhoidja) \n12.00–12.45 Lõunapaus \n13.00–13.45 Meediataiplik jalutuskäik: märkame sõnumeid ja mõjutamist linnaruumis\nJalutuskäiku juhivad: Heiko Leesment (Tallinna Ülikooli poliitika ja riigiteaduste doktorant ning nügimise uurija)\, Maria Rozbaum (Pärnu Koidula Gümnaasiumi meedia ja kommunikatsiooni õpetaja) ja Hedy Tammeleht (Politsei- ja Piirivalveameti kommunikatsioonispetsialist) \n14.00–17.00 Töötoad \n14.00–15.00\nTöötuba: seljata tehisintellekt \nLäbiviija: Kateryna Botnar\, Eesti Rahvusraamatukogu meediapädevuse spetsialist \nTöötuba: kui Andrew Tate trügib klassiruumi… \nLäbiviijad: Maria Murumaa-Mengel\, Tartu Ülikooli õppejõud ja doktorant Kaarel Lott \n15.00–15.15 Vaheaeg \n15.15–16.15\nTöötuba: Dialoogi võimalused klassiruumis: kuidas rääkida inimesega kellega sa ei ole samal arvamusel?\nLäbiviijad: Bart Cosijn\, Eesti Dialoogiakadeemia asutaja ja Piret Jeedas\, koolitaja\, dialoogipraktik ja andragoogika külalislektor Tallinna Ülikoolis \nTöötuba: kuidas olla veel parem skeptik?\nLäbiviija: Martin Vällik\, Aasta meediapädevuse õpetaja 2023\, Tallinna Inglise Kolledži füüsikaõpetaja \n16.15–17.00\nTöötuba: tumeveeb\nLäbiviija: Politsei- ja Piirivalveamet \nTöötuba: audiovisuaalne kirjaoskus \nLäbiviija: Mikk Rand\, Eesti Filmi Instituut\, filmikirjaoskuse projektijuht \n17.00–17.30 Päeva pidulik lõpetamine\nAasta meediapädevuse edendajate autasustamine \nMeediapädevuse aastakonverentsi korraldavad Eesti Rahvusraamatukogu koostöös Tartu Ülikooli\, Haridus- ja Teadusministeeriumiga\, Euroopa Komisjoni esindusega Eestis\, Riigikantselei ning Politsei- ja Piirivalveametiga. \n\nPilet sisaldab toitlustust\nSündmust jäädvustatakse\nOsalejal võimalus ESTONIA Resort Hotel & Spa majutuse päevahinnale saada 10% soodustust
URL:https://meedia.ut.ee/event/meediahariduse-konverents-2024-kuidas-orienteeruda-info-virvarris/
LOCATION:ESTONIA Resort Hotel & Spa konverentsikeskus\, A. H. Tammsaare pst 6\, Pärnu
ATTACH;FMTTYPE=image/png:https://meedia.ut.ee/wp-content/uploads/2024/08/MEEDIA.UT_.EE-45.png
END:VEVENT
END:VCALENDAR