BEGIN:VCALENDAR
VERSION:2.0
PRODID:-//Digimentorid - ECPv6.15.13.1//NONSGML v1.0//EN
CALSCALE:GREGORIAN
METHOD:PUBLISH
X-ORIGINAL-URL:https://meedia.ut.ee
X-WR-CALDESC:Events for Digimentorid
REFRESH-INTERVAL;VALUE=DURATION:PT1H
X-Robots-Tag:noindex
X-PUBLISHED-TTL:PT1H
BEGIN:VTIMEZONE
TZID:UTC
BEGIN:STANDARD
TZOFFSETFROM:+0000
TZOFFSETTO:+0000
TZNAME:UTC
DTSTART:20230101T000000
END:STANDARD
END:VTIMEZONE
BEGIN:VEVENT
DTSTART;TZID=UTC:20241007T150000
DTEND;TZID=UTC:20241007T173000
DTSTAMP:20260421T235949
CREATED:20240906T180020Z
LAST-MODIFIED:20240920T125456Z
UID:1668-1728313200-1728322200@meedia.ut.ee
SUMMARY:Jagatud meediaharidus: õpilasest digimentoriks (07.10 kl 15.00-17.30)
DESCRIPTION:Laste ja noorte digiseadmete kasutusega peab kahtlemata kaasas käima vastav õpetus.\n\n\nAlanud õppeaastast on Eesti õppekavade muudatustega pandud suured ootused õpetajatele. Loodetakse\, et õpetajad lõimivad digi- ja meediapädevuste õpet oma tundidesse\, samal ajal kui haridustöötajad võivad end leida küsimast: “Aga ma ei ole ju seda õppinud?”\n\n\nOotame kõiki õpetajaid 7. oktoobril kell 15.00–17.00 Telia peamajja (Mustamäe tee 3\, Tallinn) Tartu Ülikooli tasuta täienduskoolitusele\, mis keskendub III kooliastme ja gümnaasiumi õpilaste kaasamisele digimeediapädevuste õpetamisesse koolis ja kogukonnas.\n\n\nKoolituse esimeses pooles arutlevad president Kersti Kaljulaid ja Tartu Ülikooli meediauuringute kaasprofessor Maria Murumaa-Mengel kaasaegse meediahariduse kitsaskohtade ja võimaluste üle.\n\n\nTeises pooles saavad osalejad Tartu Ülikooli teadlastelt ja meediapädevuse spetsialistidelt värskeimat teaduspõhist infot laste ja noorte internetikasutuse kohta\, koheselt kasutatavaid praktilisi ülesandeid ning ideid\, mille abil suunata õpilasi endast nooremaid ja madalate digipädevustega täiskasvanuid õpetama.\n\n\nOsalejatele väljastatakse Tartu Ülikooli täienduskoolituse läbimise tõend.\n\n\nSündmusest saavad osa esimesed 100 registreerujat. Kindlustage koht koolitusel\, registreerudes siin: https://forms.gle/Gxgi8eJita3Wiuuw5\n\n\nTäienduskoolitus märgib Tartu Ülikooli ühiskonnateaduste instituudi ja Telia koostöös valminud Digimentori programmi algust.\n\n***\n\nSÜNDMUSE KAVA\n\n 15.00–15.10– Avasõnad Inger Klesment (TÜ)\, Marge Varma (HTM)\, Holger Haljand (Telia)\n\n 15.10–15.30– Kahekõne “Kaasaegse meediahariduse kitsaskohtad ja võimalused” President Kersti Kaljulaid ja Maria Murumaa-Mengel (TÜ)\n\n 15.30–15.45– Ülesanne laudkondades. Viskame õpetajad noorte internetimaailma – laste- ja noortekultuuris aktuaalsete teemade mõistmine\, info otsimine. Gretel Juhansoo (TÜ)\n\n 15.45–16.15– Ettekanne\, mis vastab küsimusele “Mida me just kogesime?”Loeng “Meediageneratsioonide erinevused\, laste- ja noortekultuur. Mineviku ja tuleviku kokkupõrge olevikus.” Maria Murumaa-Mengel (TÜ)\n\n 16.15–16.30– Paus\n\n 16.30–16.50– Kuidas keemia ja meedia kokku said: (digi)meediapädevuste lõimimine erinevatesse ainetundidesse Joana Jõgela (TÜ)\n\n 16.50–17.00– Ajutorm – eri ained\, mida saab (digi)meediapädevuste arendamisega seostada ja kuidas Joana Jõgela (TÜ)\n\n 17.00–17.30– Õpilaste juhendamine teiste õpetamiseks (õpilased\, eakad\, kogukond) Inger Klesment (TÜ)\n\n 17.30–18.00– Lahkumine\, informaalsed arutelud ja edasised kokkulepped
URL:https://meedia.ut.ee/event/jagatud-meediaharidus-opilasest-digimentoriks/
LOCATION:Telia peamaja\, Mustamäe 3\, Tallinn\, Kristiine
ATTACH;FMTTYPE=image/png:https://meedia.ut.ee/wp-content/uploads/2024/09/MEEDIA.UT_.EE-100.png
ORGANIZER;CN="Tartu %C3%9Clikooli %C3%BChiskonnateaduste instituut":MAILTO:inger.klesment@ut.ee
END:VEVENT
END:VCALENDAR